BEGIN:VCALENDAR
PRODID:-//eluceo/ical//2.0/EN
VERSION:2.0
CALSCALE:GREGORIAN
BEGIN:VEVENT
UID:79e17804cff831e755440c8e083e1a1d
DTSTAMP:20260420T141953Z
SUMMARY:Referat von Patrice Riedo
DESCRIPTION:Webbplats: http://www.gasthausengel.ch\nTalare: Generalökonom 
 SMB / Geschäftsführer VMB bei Missionshaus Bethlehem
URL:https://rotary-rigi.ch/sv/agenda/show/65345
DTSTART;TZID=Europe/Zurich:20170309T120000
DTEND;TZID=Europe/Zurich:20170309T140000
LOCATION:Restaurant Engel
CATEGORIES:Rotary
END:VEVENT
BEGIN:VTIMEZONE
TZID:Europe/Zurich
BEGIN:STANDARD
DTSTART:20170309T120000
TZNAME:CET
TZOFFSETTO:+0100
TZOFFSETFROM:+0100
END:STANDARD
END:VTIMEZONE
END:VCALENDAR
