BEGIN:VCALENDAR
PRODID:-//eluceo/ical//2.0/EN
VERSION:2.0
CALSCALE:GREGORIAN
BEGIN:VEVENT
UID:b9dadbd055f496a47b61cd42fb363689
DTSTAMP:20260420T141136Z
SUMMARY:Rotary-Lunch
DESCRIPTION:Webbplats: http://www.gasthausengel.ch
URL:https://rotary-rigi.ch/sv/agenda/show/65344
DTSTART;TZID=Europe/Zurich:20170302T120000
DTEND;TZID=Europe/Zurich:20170302T133000
LOCATION:Restaurant Engel
CATEGORIES:Rotary
END:VEVENT
BEGIN:VTIMEZONE
TZID:Europe/Zurich
BEGIN:STANDARD
DTSTART:20170302T120000
TZNAME:CET
TZOFFSETTO:+0100
TZOFFSETFROM:+0100
END:STANDARD
END:VTIMEZONE
END:VCALENDAR
