BEGIN:VCALENDAR
PRODID:-//eluceo/ical//2.0/EN
VERSION:2.0
CALSCALE:GREGORIAN
BEGIN:VEVENT
UID:c5a09cb0c0d9bc0035e48aac5db63ee9
DTSTAMP:20260420T141249Z
SUMMARY:Gipfelitreff
DESCRIPTION:Webbplats: http://www.kaffeeundtee.ch
URL:https://rotary-rigi.ch/sv/agenda/show/65343
DTSTART;TZID=Europe/Zurich:20170308T070000
DTEND;TZID=Europe/Zurich:20170308T083000
LOCATION:KaffeeUndTee\, Unterdorf 4
CATEGORIES:Rotary
END:VEVENT
BEGIN:VTIMEZONE
TZID:Europe/Zurich
BEGIN:STANDARD
DTSTART:20170308T070000
TZNAME:CET
TZOFFSETTO:+0100
TZOFFSETFROM:+0100
END:STANDARD
END:VTIMEZONE
END:VCALENDAR
