BEGIN:VCALENDAR
PRODID:-//eluceo/ical//2.0/EN
VERSION:2.0
CALSCALE:GREGORIAN
BEGIN:VEVENT
UID:a6147950dcd2f3a783079d371cfa1fe8
DTSTAMP:20260424T094625Z
SUMMARY:Hochzeits-Apéro Riche offeriert von Mathias Bachmann
DESCRIPTION:Webbplats: http://www.weinhaus-kuessnacht.ch/
URL:https://rotary-rigi.ch/sv/agenda/show/65342
DTSTART;TZID=Europe/Zurich:20170227T173000
DTEND;TZID=Europe/Zurich:20170227T193000
LOCATION:Weinhaus\, Bodenstrasse 20
CATEGORIES:Rotary
END:VEVENT
BEGIN:VTIMEZONE
TZID:Europe/Zurich
BEGIN:STANDARD
DTSTART:20170227T173000
TZNAME:CET
TZOFFSETTO:+0100
TZOFFSETFROM:+0100
END:STANDARD
END:VTIMEZONE
END:VCALENDAR
