BEGIN:VCALENDAR
PRODID:-//eluceo/ical//2.0/EN
VERSION:2.0
CALSCALE:GREGORIAN
BEGIN:VEVENT
UID:229164d849b877d5981e436149db8a8d
DTSTAMP:20260420T141528Z
SUMMARY:Rotary-Lunch auf der Gotthard-Südseite
DESCRIPTION:Webbplats: http://www.osteriamistral.ch
URL:https://rotary-rigi.ch/sv/agenda/show/65341
DTSTART;TZID=Europe/Zurich:20170223T101500
DTEND;TZID=Europe/Zurich:20170223T153300
LOCATION:Osteria Mistral\, via Orico 2\, 6500 Bellinzona
CATEGORIES:Rotary
END:VEVENT
BEGIN:VTIMEZONE
TZID:Europe/Zurich
BEGIN:STANDARD
DTSTART:20170223T101500
TZNAME:CET
TZOFFSETTO:+0100
TZOFFSETFROM:+0100
END:STANDARD
END:VTIMEZONE
END:VCALENDAR
