BEGIN:VCALENDAR
PRODID:-//eluceo/ical//2.0/EN
VERSION:2.0
CALSCALE:GREGORIAN
BEGIN:VEVENT
UID:6df52aa115bf5e5d52c6fcf9e4210940
DTSTAMP:20260420T095653Z
SUMMARY:Fachreferat von Esther Pfründer
DESCRIPTION:Seit 2008 Gemeinderätin (Finanzen) in Weggis.\nWebbplats: http
 ://www.gasthausengel.ch
URL:https://rotary-rigi.ch/sv/agenda/show/65339
DTSTART;TZID=Europe/Zurich:20170209T120000
DTEND;TZID=Europe/Zurich:20170209T140000
LOCATION:Restaurant Engel
CATEGORIES:Rotary
END:VEVENT
BEGIN:VTIMEZONE
TZID:Europe/Zurich
BEGIN:STANDARD
DTSTART:20170209T120000
TZNAME:CET
TZOFFSETTO:+0100
TZOFFSETFROM:+0100
END:STANDARD
END:VTIMEZONE
END:VCALENDAR
