BEGIN:VCALENDAR
PRODID:-//eluceo/ical//2.0/EN
VERSION:2.0
CALSCALE:GREGORIAN
BEGIN:VEVENT
UID:472f037f4ada9c5937ccef179f684340
DTSTAMP:20260421T135355Z
SUMMARY:Rotary-Lunch beim RC Schwyz-Mythen
DESCRIPTION:Sito web: http://www.wrsz.ch/
URL:https://rotary-rigi.ch/it/agenda/show/65337
DTSTART;TZID=Europe/Zurich:20170202T120000
DTEND;TZID=Europe/Zurich:20170202T133000
LOCATION:Rest. Wysses Rössli\, Hauptplatz 3 in Schwyz
CATEGORIES:Rotary
END:VEVENT
BEGIN:VTIMEZONE
TZID:Europe/Zurich
BEGIN:STANDARD
DTSTART:20170202T120000
TZNAME:CET
TZOFFSETTO:+0100
TZOFFSETFROM:+0100
END:STANDARD
END:VTIMEZONE
END:VCALENDAR
