BEGIN:VCALENDAR
PRODID:-//eluceo/ical//2.0/EN
VERSION:2.0
CALSCALE:GREGORIAN
BEGIN:VEVENT
UID:38a795586ef3a3376dfbbaddd32649ce
DTSTAMP:20260425T013703Z
SUMMARY:Gipfelitreff
DESCRIPTION:Vefsíða: http://www.kaffeeundtee.ch
URL:https://rotary-rigi.ch/is/agenda/show/65362
DTSTART;TZID=Europe/Zurich:20170510T070000
DTEND;TZID=Europe/Zurich:20170510T083000
LOCATION:KaffeeUndTee\, Unterdorf 4
CATEGORIES:Rotary
END:VEVENT
BEGIN:VTIMEZONE
TZID:Europe/Zurich
BEGIN:DAYLIGHT
DTSTART:20170510T070000
TZNAME:CEST
TZOFFSETTO:+0200
TZOFFSETFROM:+0200
END:DAYLIGHT
END:VTIMEZONE
END:VCALENDAR
