BEGIN:VCALENDAR
PRODID:-//eluceo/ical//2.0/EN
VERSION:2.0
CALSCALE:GREGORIAN
BEGIN:VEVENT
UID:07301576f77bbce709e414112b5766c6
DTSTAMP:20260425T014409Z
SUMMARY:Fachreferat von Ivan Köpfli
DESCRIPTION:Vefsíða: http://www.gasthausengel.ch\nFyrirlesari(ar): Vorsit
 zender der Bankleitung der Raiffeisenbank Rigi
URL:https://rotary-rigi.ch/is/agenda/show/65347
DTSTART;TZID=Europe/Zurich:20170323T120000
DTEND;TZID=Europe/Zurich:20170323T140000
LOCATION:Restaurant Engel
CATEGORIES:Rotary
END:VEVENT
BEGIN:VTIMEZONE
TZID:Europe/Zurich
BEGIN:STANDARD
DTSTART:20170323T120000
TZNAME:CET
TZOFFSETTO:+0100
TZOFFSETFROM:+0100
END:STANDARD
END:VTIMEZONE
END:VCALENDAR
