BEGIN:VCALENDAR
PRODID:-//eluceo/ical//2.0/EN
VERSION:2.0
CALSCALE:GREGORIAN
BEGIN:VEVENT
UID:4a31e7a1c326cb2a260394fb00693e3e
DTSTAMP:20260425T030445Z
SUMMARY:Rotary-Lunch
DESCRIPTION:Vefsíða: http://www.gasthausengel.ch
URL:https://rotary-rigi.ch/is/agenda/show/65346
DTSTART;TZID=Europe/Zurich:20170316T120000
DTEND;TZID=Europe/Zurich:20170316T133000
LOCATION:Restaurant Engel
CATEGORIES:Rotary
END:VEVENT
BEGIN:VTIMEZONE
TZID:Europe/Zurich
BEGIN:STANDARD
DTSTART:20170316T120000
TZNAME:CET
TZOFFSETTO:+0100
TZOFFSETFROM:+0100
END:STANDARD
END:VTIMEZONE
END:VCALENDAR
