BEGIN:VCALENDAR
PRODID:-//eluceo/ical//2.0/EN
VERSION:2.0
CALSCALE:GREGORIAN
BEGIN:VEVENT
UID:4a52e856e1cf124938dd79783d617bda
DTSTAMP:20260424T110225Z
SUMMARY:Rotary-Lunch
DESCRIPTION:Site internet: http://www.tellshohlegasse.ch
URL:https://rotary-rigi.ch/fr/agenda/show/99466
DTSTART;TZID=Europe/Zurich:20190606T120000
DTEND;TZID=Europe/Zurich:20190606T133000
LOCATION:Jeden Donnerstag um 12:00 von April bis September: Lunch im Restau
 rant Hohle-Gasse
CATEGORIES:Rotary
END:VEVENT
BEGIN:VTIMEZONE
TZID:Europe/Zurich
BEGIN:DAYLIGHT
DTSTART:20190606T120000
TZNAME:CEST
TZOFFSETTO:+0200
TZOFFSETFROM:+0200
END:DAYLIGHT
END:VTIMEZONE
END:VCALENDAR
