BEGIN:VCALENDAR
PRODID:-//eluceo/ical//2.0/EN
VERSION:2.0
CALSCALE:GREGORIAN
BEGIN:VEVENT
UID:344acba3851ea1ca05ca70ed336a05ed
DTSTAMP:20260420T163120Z
SUMMARY:Jubiläumsausflug der Fasnachtsbescherungsgesellschaft Küssnacht z
 um 100 Jahre Jubiläum
DESCRIPTION:13:15: Abholen der TeilnehmerInnen\n\n13:45: Eintreffen aller T
 eilnehmerInnen beim Schiffsteg in Küssnacht\, Seeplatz\n\n14:00 Rundfahrt
  mit Motorschiff Gotthard\, Kaffee und Kuchen\n\n16:00 Rückkehr nach Küs
 snacht\, Rückkehr in die beiden Heime\n\n 
URL:https://rotary-rigi.ch/fr/agenda/show/97470
DTSTART;TZID=Europe/Zurich:20190528T131500
DTEND;TZID=Europe/Zurich:20190528T163000
LOCATION:-
CATEGORIES:Rotary
END:VEVENT
BEGIN:VTIMEZONE
TZID:Europe/Zurich
BEGIN:DAYLIGHT
DTSTART:20190528T131500
TZNAME:CEST
TZOFFSETTO:+0200
TZOFFSETFROM:+0200
END:DAYLIGHT
END:VTIMEZONE
END:VCALENDAR
