BEGIN:VCALENDAR
PRODID:-//eluceo/ical//2.0/EN
VERSION:2.0
CALSCALE:GREGORIAN
BEGIN:VEVENT
UID:6918570550bca8dd83529561d50d6b76
DTSTAMP:20260424T105344Z
SUMMARY:Rotary-Lunch mit Referat von Petra Gössi\, Präsidentin der FDP di
 e Liberalen Schweiz
DESCRIPTION:Site internet: http://www.tellshohlegasse.ch
URL:https://rotary-rigi.ch/fr/agenda/show/96203
DTSTART;TZID=Europe/Zurich:20190411T120000
DTEND;TZID=Europe/Zurich:20190411T140000
LOCATION:Jeden Donnerstag um 12:00 von April bis September: Lunch im Restau
 rant Hohle-Gasse
CATEGORIES:Rotary
END:VEVENT
BEGIN:VTIMEZONE
TZID:Europe/Zurich
BEGIN:DAYLIGHT
DTSTART:20190411T120000
TZNAME:CEST
TZOFFSETTO:+0200
TZOFFSETFROM:+0200
END:DAYLIGHT
END:VTIMEZONE
END:VCALENDAR
