BEGIN:VCALENDAR
PRODID:-//eluceo/ical//2.0/EN
VERSION:2.0
CALSCALE:GREGORIAN
BEGIN:VEVENT
UID:bd3f8204f6ce4ad026aa18543925f5a2
DTSTAMP:20260420T163852Z
SUMMARY:Rotary-Lunch
DESCRIPTION:Site internet: http://www.gasthausengel.ch
URL:https://rotary-rigi.ch/fr/agenda/show/91364
DTSTART;TZID=Europe/Zurich:20181115T120000
DTEND;TZID=Europe/Zurich:20181115T133000
LOCATION:Jeden Donnerstag um 12:00 von Oktober bis März: Lunch im Restaura
 nt Engel
CATEGORIES:Rotary
END:VEVENT
BEGIN:VTIMEZONE
TZID:Europe/Zurich
BEGIN:STANDARD
DTSTART:20181115T120000
TZNAME:CET
TZOFFSETTO:+0100
TZOFFSETFROM:+0100
END:STANDARD
END:VTIMEZONE
END:VCALENDAR
