BEGIN:VCALENDAR
PRODID:-//eluceo/ical//2.0/EN
VERSION:2.0
CALSCALE:GREGORIAN
BEGIN:VEVENT
UID:4afa67bba9f417eb8e16feb9ce9f5118
DTSTAMP:20260420T163709Z
SUMMARY:Rotary-Lunch\, anschl. Meet the Professionals im Gymi Immensee
DESCRIPTION:Site internet: http://www.tellshohlegasse.ch
URL:https://rotary-rigi.ch/fr/agenda/show/88063
DTSTART;TZID=Europe/Zurich:20180913T120000
DTEND;TZID=Europe/Zurich:20180913T133000
LOCATION:Jeden Donnerstag um 12:00 von April bis September: Lunch im Restau
 rant Hohle-Gasse
CATEGORIES:Rotary
END:VEVENT
BEGIN:VTIMEZONE
TZID:Europe/Zurich
BEGIN:DAYLIGHT
DTSTART:20180913T120000
TZNAME:CEST
TZOFFSETTO:+0200
TZOFFSETFROM:+0200
END:DAYLIGHT
END:VTIMEZONE
END:VCALENDAR
