BEGIN:VCALENDAR
PRODID:-//eluceo/ical//2.0/EN
VERSION:2.0
CALSCALE:GREGORIAN
BEGIN:VEVENT
UID:667134767f8a4e5e9d825c235c9d7293
DTSTAMP:20260420T110719Z
SUMMARY:Foundation-Seminar
DESCRIPTION:Site internet: http://radissonblu.com/hotel-lucerne\nConférenc
 ier(s): Information über die Foundation\, Verwendung der Grants\, Vorstel
 -lung von Projekten und Stipendiaten
URL:https://rotary-rigi.ch/fr/agenda/show/63144
DTSTART;TZID=Europe/Zurich:20161119T090000
DTEND;TZID=Europe/Zurich:20161119T121500
LOCATION:Hotel Radisson Blu Inseliquai 12\, Lakefront Center 6005 Luzern
CATEGORIES:Rotary
END:VEVENT
BEGIN:VTIMEZONE
TZID:Europe/Zurich
BEGIN:STANDARD
DTSTART:20161119T090000
TZNAME:CET
TZOFFSETTO:+0100
TZOFFSETFROM:+0100
END:STANDARD
END:VTIMEZONE
END:VCALENDAR
