BEGIN:VCALENDAR
PRODID:-//eluceo/ical//2.0/EN
VERSION:2.0
CALSCALE:GREGORIAN
BEGIN:VEVENT
UID:0fc4a875800098c789716875ca29cf8b
DTSTAMP:20260425T182624Z
SUMMARY:Rotary Tag mit RC Schwyz und RC Schwyz-Mythen
DESCRIPTION:Rotary International ruft weltweit alle Clubs auf\, einen Rotar
 y Tag zu organisieren.\nZweck ist in erster Linie\, Rotary einer breiten 
 Öffentlichkeit vorzustellen.\n\nDie drei Schweizer Distrikte 1980\, 1990 
 und 2000 planen am 10. September 2016 mit\nkoordinierten\, gleichentags du
 rchzführenden Aktionen sich publikumswirksam in der Öffentlichkeit\nzu p
 räsentieren und für ein rotarisches Projekt einen Benefit zu erzielen 
 –\ndie drei Distrikte einigten sich auf Mine-Ex.\n\nDer RC Küssnacht Ri
 gi Meggen wird zusammen mit dem RC Schwyz und dem RC Schwyz-Mythen einen S
 tand im Mythen-Center betreiben. Freiwillige Helfer melden sich bitte bei 
 der Gemeindienst-Verantwortlichen Marianne Muggli.\nSite internet: http://
 www.mythen-center.ch/
URL:https://rotary-rigi.ch/fr/agenda/show/62878
DTSTART;TZID=Europe/Zurich:20160910T080000
DTEND;TZID=Europe/Zurich:20160910T180000
LOCATION:Mythen Center Schwyz
CATEGORIES:Rotary
END:VEVENT
BEGIN:VTIMEZONE
TZID:Europe/Zurich
BEGIN:DAYLIGHT
DTSTART:20160910T080000
TZNAME:CEST
TZOFFSETTO:+0200
TZOFFSETFROM:+0200
END:DAYLIGHT
END:VTIMEZONE
END:VCALENDAR
