BEGIN:VCALENDAR
PRODID:-//eluceo/ical//2.0/EN
VERSION:2.0
CALSCALE:GREGORIAN
BEGIN:VEVENT
UID:18fe91b45a87487289420e2c4011741e
DTSTAMP:20260420T111341Z
SUMMARY:Amtsübergabe\, Partneranlass mit Anmeldung
DESCRIPTION:Site internet: http://www.waldheim.ch/
URL:https://rotary-rigi.ch/fr/agenda/show/59877
DTSTART;TZID=Europe/Zurich:20160623T183000
DTEND;TZID=Europe/Zurich:20160623T230000
LOCATION:im Restaurant/ Hotel Waldheim in Risch
CATEGORIES:Rotary
END:VEVENT
BEGIN:VTIMEZONE
TZID:Europe/Zurich
BEGIN:DAYLIGHT
DTSTART:20160623T183000
TZNAME:CEST
TZOFFSETTO:+0200
TZOFFSETFROM:+0200
END:DAYLIGHT
END:VTIMEZONE
END:VCALENDAR
