BEGIN:VCALENDAR
PRODID:-//eluceo/ical//2.0/EN
VERSION:2.0
CALSCALE:GREGORIAN
BEGIN:VEVENT
UID:c0dd9a2699b398d6a5813016d1cb61fa
DTSTAMP:20260423T093249Z
SUMMARY:Weihnachts-Lunch mit feierlichem Menü
DESCRIPTION:Dank dem Sponsoring unserer Geburtstagskinder Stefan Kaiser (20
 .12)\, Martin Heierle (25.12)\, Stephan Mayer (26.12) und Thomas Kleber (2
 7.12) werden wir für den normalen Menüpreis von Fr. 40.- p.P. einen ged
 iegenen Apéro sowie ein von Tobias Küttel zusammengestelltes 3-Gang Weih
 nachtsmenü vom Feinsten geniessen. Wir freuen uns auf zahlreiche feierli
 ch eingestellte Rotarier und auf einen schönen Anlass.\nSitio web: http:/
 /www.gasthausengel.ch
URL:https://rotary-rigi.ch/es/agenda/show/63151
DTSTART;TZID=Europe/Zurich:20161222T113000
DTEND;TZID=Europe/Zurich:20161222T133000
LOCATION:Restaurant Engel
CATEGORIES:Rotary
END:VEVENT
BEGIN:VTIMEZONE
TZID:Europe/Zurich
BEGIN:STANDARD
DTSTART:20161222T113000
TZNAME:CET
TZOFFSETTO:+0100
TZOFFSETFROM:+0100
END:STANDARD
END:VTIMEZONE
END:VCALENDAR
