BEGIN:VCALENDAR
PRODID:-//eluceo/ical//2.0/EN
VERSION:2.0
CALSCALE:GREGORIAN
BEGIN:VEVENT
UID:96da316a65075dc0198acee724179325
DTSTAMP:20260425T123000Z
SUMMARY:Gipfelitreff
DESCRIPTION:Webseite: http://www.kaffeeundtee.ch
URL:https://rotary-rigi.ch/de/agenda/show/65336
DTSTART;TZID=Europe/Zurich:20170130T070000
DTEND;TZID=Europe/Zurich:20170130T083000
LOCATION:KaffeeUndTee\, Unterdorf 4
CATEGORIES:Rotary
END:VEVENT
BEGIN:VTIMEZONE
TZID:Europe/Zurich
BEGIN:STANDARD
DTSTART:20170130T070000
TZNAME:CET
TZOFFSETTO:+0100
TZOFFSETFROM:+0100
END:STANDARD
END:VTIMEZONE
END:VCALENDAR
