BEGIN:VCALENDAR
PRODID:-//eluceo/ical//2.0/EN
VERSION:2.0
CALSCALE:GREGORIAN
BEGIN:VEVENT
UID:12ca9912fa50bcece283fa67a194e9d9
DTSTAMP:20260425T122828Z
SUMMARY:Referat von Josef Widmer
DESCRIPTION:Seit Januar 2013: Stellvertretender Direktor des Staatssekretar
 iates für Bildung\, Forschung und Innovation SBFI\, Leitung der Bereiche 
 Berufsbildung und Allgemeine Bildung.\n\nSeit 1998 Mitglied des Rotary-Clu
 bs Luzern-Seetal\, u.a. mehrere Jahre Präsident der Distriktskommission B
 erufsdienst.\nWebseite: http://www.gasthausengel.ch
URL:https://rotary-rigi.ch/de/agenda/show/65332
DTSTART;TZID=Europe/Zurich:20170112T120000
DTEND;TZID=Europe/Zurich:20170112T140000
LOCATION:Restaurant Engel
CATEGORIES:Rotary
END:VEVENT
BEGIN:VTIMEZONE
TZID:Europe/Zurich
BEGIN:STANDARD
DTSTART:20170112T120000
TZNAME:CET
TZOFFSETTO:+0100
TZOFFSETFROM:+0100
END:STANDARD
END:VTIMEZONE
END:VCALENDAR
